BEGIN:VCALENDAR
VERSION:2.0
PRODID:-//Sturgis Charter Public School - ECPv6.15.18//NONSGML v1.0//EN
CALSCALE:GREGORIAN
METHOD:PUBLISH
X-ORIGINAL-URL:https://www.sturgischarterschool.com
X-WR-CALDESC:Events for Sturgis Charter Public School
REFRESH-INTERVAL;VALUE=DURATION:PT1H
X-Robots-Tag:noindex
X-PUBLISHED-TTL:PT1H
BEGIN:VTIMEZONE
TZID:America/New_York
BEGIN:DAYLIGHT
TZOFFSETFROM:-0500
TZOFFSETTO:-0400
TZNAME:EDT
DTSTART:20230312T070000
END:DAYLIGHT
BEGIN:STANDARD
TZOFFSETFROM:-0400
TZOFFSETTO:-0500
TZNAME:EST
DTSTART:20231105T060000
END:STANDARD
BEGIN:DAYLIGHT
TZOFFSETFROM:-0500
TZOFFSETTO:-0400
TZNAME:EDT
DTSTART:20240310T070000
END:DAYLIGHT
BEGIN:STANDARD
TZOFFSETFROM:-0400
TZOFFSETTO:-0500
TZNAME:EST
DTSTART:20241103T060000
END:STANDARD
BEGIN:DAYLIGHT
TZOFFSETFROM:-0500
TZOFFSETTO:-0400
TZNAME:EDT
DTSTART:20250309T070000
END:DAYLIGHT
BEGIN:STANDARD
TZOFFSETFROM:-0400
TZOFFSETTO:-0500
TZNAME:EST
DTSTART:20251102T060000
END:STANDARD
BEGIN:DAYLIGHT
TZOFFSETFROM:-0500
TZOFFSETTO:-0400
TZNAME:EDT
DTSTART:20260308T070000
END:DAYLIGHT
BEGIN:STANDARD
TZOFFSETFROM:-0400
TZOFFSETTO:-0500
TZNAME:EST
DTSTART:20261101T060000
END:STANDARD
BEGIN:DAYLIGHT
TZOFFSETFROM:-0500
TZOFFSETTO:-0400
TZNAME:EDT
DTSTART:20270314T070000
END:DAYLIGHT
BEGIN:STANDARD
TZOFFSETFROM:-0400
TZOFFSETTO:-0500
TZNAME:EST
DTSTART:20271107T060000
END:STANDARD
END:VTIMEZONE
BEGIN:VEVENT
DTSTART;TZID=America/New_York:20260209T153000
DTEND;TZID=America/New_York:20260209T170000
DTSTAMP:20260422T131143
CREATED:20260122T151415Z
LAST-MODIFIED:20260122T151415Z
UID:10000702-1770651000-1770656400@www.sturgischarterschool.com
SUMMARY:Welcome Event for prospective families
DESCRIPTION:
URL:https://www.sturgischarterschool.com/event/welcome-event-for-prospective-families/
LOCATION:529 Main Street\, Hyannis\, 529 Main St\, Hyannis\, MA\, United States
CATEGORIES:General
END:VEVENT
BEGIN:VEVENT
DTSTART;TZID=America/New_York:20260202T183000
DTEND;TZID=America/New_York:20260202T200000
DTSTAMP:20260422T131143
CREATED:20260122T161915Z
LAST-MODIFIED:20260128T164015Z
UID:10000706-1770057000-1770062400@www.sturgischarterschool.com
SUMMARY:Board of Trustees Meeting- February 2
DESCRIPTION:The Finance Committee will meet at 5:30 followed by a meeting of the Sturgis Charter Public School Board of Trustees at 6:30 p.m. See agenda below: \nAgendas Feb2
URL:https://www.sturgischarterschool.com/event/board-of-trustees-meeting-3/
LOCATION:441 Main St\, Hyannis\, 441 Main Street\, Hyannis\, 02601\, United States
CATEGORIES:East Campus Events,General,West Campus Events
END:VEVENT
BEGIN:VEVENT
DTSTART;TZID=America/New_York:20260123T130000
DTEND;TZID=America/New_York:20260123T143000
DTSTAMP:20260422T131143
CREATED:20251211T190202Z
LAST-MODIFIED:20251211T190202Z
UID:10000697-1769173200-1769178600@www.sturgischarterschool.com
SUMMARY:Lottery for 2026-27 grades 9 and 10
DESCRIPTION:Students must have completed an application during the Dec. 1 – Jan. 16 Enrollment Period to be in the lottery. \n 
URL:https://www.sturgischarterschool.com/event/lottery-for-2026-27-grades-9-and-10/
CATEGORIES:East Campus Events,General,West Campus Events
END:VEVENT
BEGIN:VEVENT
DTSTART;TZID=America/New_York:20251215T183000
DTEND;TZID=America/New_York:20251215T200000
DTSTAMP:20260422T131143
CREATED:20251209T135437Z
LAST-MODIFIED:20251209T135617Z
UID:10000692-1765823400-1765828800@www.sturgischarterschool.com
SUMMARY:Meeting of the Board of Trustees
DESCRIPTION:The Sturgis Charter Public School’s Board of Trustees will meet on Monday\, December 15th at 6:30 at 441 Main St\, Hyannis. \nSee Meeting Agenda Here
URL:https://www.sturgischarterschool.com/event/meeting-of-the-board-of-trustees-5/
CATEGORIES:East Campus Events,General,West Campus Events
END:VEVENT
BEGIN:VEVENT
DTSTART;VALUE=DATE:20251201
DTEND;VALUE=DATE:20260117
DTSTAMP:20260422T131143
CREATED:20250820T173621Z
LAST-MODIFIED:20250820T173621Z
UID:10000668-1764547200-1768607999@www.sturgischarterschool.com
SUMMARY:Enrollment Period for 2026-27\, grades 9 and 10
DESCRIPTION:
URL:https://www.sturgischarterschool.com/event/enrollment-period-for-2026-27-grades-9-and-10/
CATEGORIES:East Campus Events,General,West Campus Events
END:VEVENT
BEGIN:VEVENT
DTSTART;TZID=America/New_York:20251117T183000
DTEND;TZID=America/New_York:20251117T193000
DTSTAMP:20260422T131143
CREATED:20251112T171942Z
LAST-MODIFIED:20251112T171942Z
UID:10000691-1763404200-1763407800@www.sturgischarterschool.com
SUMMARY:Sturgis Board of Trustees Meeting
DESCRIPTION:Click below to see the agenda: \nBoard 11.17.25
URL:https://www.sturgischarterschool.com/event/sturgis-board-of-trustees-meeting/
LOCATION:441 Main St\, Hyannis\, 441 Main Street\, Hyannis\, 02601\, United States
CATEGORIES:East Campus Events,General,West Campus Events
END:VEVENT
BEGIN:VEVENT
DTSTART;TZID=America/New_York:20251030T153000
DTEND;TZID=America/New_York:20251030T160000
DTSTAMP:20260422T131143
CREATED:20251028T121948Z
LAST-MODIFIED:20251028T121948Z
UID:10000690-1761838200-1761840000@www.sturgischarterschool.com
SUMMARY:Sturgis Charter Public School Board Meeting
DESCRIPTION:Google Meet joining info \nVideo call link: https://meet.google.com/bot-vids-rzo
URL:https://www.sturgischarterschool.com/event/sturgis-charter-public-school-board-meeting/
CATEGORIES:East Campus Events,General,West Campus Events
END:VEVENT
BEGIN:VEVENT
DTSTART;TZID=America/New_York:20251027T183000
DTEND;TZID=America/New_York:20251027T200000
DTSTAMP:20260422T131143
CREATED:20251017T190801Z
LAST-MODIFIED:20251017T190801Z
UID:10000689-1761589800-1761595200@www.sturgischarterschool.com
SUMMARY:Meeting of the Board of Trustees
DESCRIPTION:The Financ Committee will meet at 5:30 pm and the Board of Trustees will meet at 6:30 pm at 441 Main Street\, Hyannis\, MA
URL:https://www.sturgischarterschool.com/event/meeting-of-the-board-of-trustees-4/
LOCATION:441 Main St\, Hyannis\, 441 Main Street\, Hyannis\, 02601\, United States
CATEGORIES:East Campus Events,General,West Campus Events
END:VEVENT
BEGIN:VEVENT
DTSTART;TZID=America/New_York:20251015T183000
DTEND;TZID=America/New_York:20251015T200000
DTSTAMP:20260422T131143
CREATED:20251015T165617Z
LAST-MODIFIED:20251015T165635Z
UID:10000688-1760553000-1760558400@www.sturgischarterschool.com
SUMMARY:Meeting of the Sturgis Charter Public School Board of Trustees
DESCRIPTION:The Finance Committee will meet at 5:30 pm\, followed by the Board of Trustees meeting at 6:30. \nSee Agenda Here
URL:https://www.sturgischarterschool.com/event/meeting-of-the-sturgis-charter-public-school-board-of-trustees-4/
LOCATION:441 Main St\, Hyannis\, 441 Main Street\, Hyannis\, 02601\, United States
CATEGORIES:East Campus Events,General,West Campus Events
END:VEVENT
BEGIN:VEVENT
DTSTART;TZID=America/New_York:20250915T183000
DTEND;TZID=America/New_York:20250915T200000
DTSTAMP:20260422T131143
CREATED:20250909T184012Z
LAST-MODIFIED:20250909T184012Z
UID:10000677-1757961000-1757966400@www.sturgischarterschool.com
SUMMARY:Meeting of the Sturgis Board of Trustees
DESCRIPTION:The Board of Trustees will meet at 6:30 p.m.\, with the Finance Committee meeting prior to the board meeting at 5:45 p.m. \nSee agendas here: BoardSept2025
URL:https://www.sturgischarterschool.com/event/meeting-of-the-sturgis-board-of-trustees-2/
LOCATION:441 Main St\, Hyannis\, 441 Main Street\, Hyannis\, 02601\, United States
CATEGORIES:East Campus Events,General,West Campus Events
END:VEVENT
BEGIN:VEVENT
DTSTART;VALUE=DATE:20250901
DTEND;VALUE=DATE:20250930
DTSTAMP:20260422T131143
CREATED:20250820T173100Z
LAST-MODIFIED:20250820T173100Z
UID:10000664-1756684800-1759190399@www.sturgischarterschool.com
SUMMARY:Enrollment for the waiting list for Grade 9\, 2025-26
DESCRIPTION:The application is available on the Enrollment Page.
URL:https://www.sturgischarterschool.com/event/enrollment-for-the-waiting-list-for-grade-9-2025-26/
CATEGORIES:East Campus Events,General,West Campus Events
END:VEVENT
BEGIN:VEVENT
DTSTART;TZID=America/New_York:20250818T183000
DTEND;TZID=America/New_York:20250818T200000
DTSTAMP:20260422T131143
CREATED:20250810T173350Z
LAST-MODIFIED:20250814T155430Z
UID:10000656-1755541800-1755547200@www.sturgischarterschool.com
SUMMARY:Meeting of the Sturgis Charter Public School Board of Trustees
DESCRIPTION:The agenda for this meeting is available HERE
URL:https://www.sturgischarterschool.com/event/meeting-of-the-sturgis-charter-public-school-board-of-trustees-3/
LOCATION:441 Main St\, Hyannis\, 441 Main Street\, Hyannis\, 02601\, United States
CATEGORIES:East Campus Events,General,West Campus Events
END:VEVENT
BEGIN:VEVENT
DTSTART;VALUE=DATE:20250526
DTEND;VALUE=DATE:20250527
DTSTAMP:20260422T131143
CREATED:20240919T184742Z
LAST-MODIFIED:20240919T184742Z
UID:10000623-1748217600-1748303999@www.sturgischarterschool.com
SUMMARY:Memorial Day
DESCRIPTION:No school
URL:https://www.sturgischarterschool.com/event/memorial-day/
CATEGORIES:East Campus Events,General,West Campus Events
END:VEVENT
BEGIN:VEVENT
DTSTART;TZID=America/New_York:20250519T183000
DTEND;TZID=America/New_York:20250519T200000
DTSTAMP:20260422T131143
CREATED:20250514T190013Z
LAST-MODIFIED:20250514T190013Z
UID:10000655-1747679400-1747684800@www.sturgischarterschool.com
SUMMARY:Meeting of the Board of Trustees
DESCRIPTION:The Finance Committee will meet at 5:45 p.m. and the Board of Trustees will meet at 6:30 p.m. Both meetings will take place at the Sturgis West Campus\, 105 West Main Street\, Hyannis\, MA
URL:https://www.sturgischarterschool.com/event/meeting-of-the-board-of-trustees-3/
LOCATION:105 West Main Sreet\, Hyannis
CATEGORIES:East Campus Events,General,West Campus Events
END:VEVENT
BEGIN:VEVENT
DTSTART;TZID=America/New_York:20250428T183000
DTEND;TZID=America/New_York:20250428T200000
DTSTAMP:20260422T131143
CREATED:20250403T190952Z
LAST-MODIFIED:20250417T172456Z
UID:10000653-1745865000-1745870400@www.sturgischarterschool.com
SUMMARY:Meeting of the Sturgis Board of Trustees
DESCRIPTION:The Finance Committee will also meet at 5:45 PM on April 28th at 105 West Main Street. \nSee agendas for both meetings BoardApril2025
URL:https://www.sturgischarterschool.com/event/meeting-of-the-sturgis-board-of-trustees/
LOCATION:105 West Main Sreet\, Hyannis
CATEGORIES:East Campus Events,General,West Campus Events
END:VEVENT
BEGIN:VEVENT
DTSTART;VALUE=DATE:20250421
DTEND;VALUE=DATE:20250426
DTSTAMP:20260422T131143
CREATED:20240919T184644Z
LAST-MODIFIED:20240919T184644Z
UID:10000622-1745193600-1745625599@www.sturgischarterschool.com
SUMMARY:April Vacation
DESCRIPTION:
URL:https://www.sturgischarterschool.com/event/april-vacation/
CATEGORIES:East Campus Events,General,West Campus Events
END:VEVENT
BEGIN:VEVENT
DTSTART;TZID=America/New_York:20250317T173000
DTEND;TZID=America/New_York:20250317T200000
DTSTAMP:20260422T131143
CREATED:20250312T184826Z
LAST-MODIFIED:20250312T185453Z
UID:10000650-1742232600-1742241600@www.sturgischarterschool.com
SUMMARY:Meeting of the Finance Committee and the Board of Trustees
DESCRIPTION:The Finance Committee will meet at 5:45 p.m. and the Board of Trustees will meet at 6:30 p.m. \nMarch17Agenda
URL:https://www.sturgischarterschool.com/event/meeting-of-the-finance-committee-and-the-board-of-trustees/
LOCATION:105 West Main Sreet\, Hyannis
CATEGORIES:East Campus Events,General,West Campus Events
END:VEVENT
BEGIN:VEVENT
DTSTART;TZID=America/New_York:20250307T080000
DTEND;TZID=America/New_York:20250307T150000
DTSTAMP:20260422T131143
CREATED:20250303T171933Z
LAST-MODIFIED:20250303T171933Z
UID:10000649-1741334400-1741359600@www.sturgischarterschool.com
SUMMARY:Board of Trustees Retreat
DESCRIPTION:At the Cape Cod Community College: Wilkins Library Board Room (lower level)
URL:https://www.sturgischarterschool.com/event/board-of-trustees-retreat/
LOCATION:cape cod community college
CATEGORIES:East Campus Events,General,West Campus Events
END:VEVENT
BEGIN:VEVENT
DTSTART;VALUE=DATE:20250305
DTEND;VALUE=DATE:20250306
DTSTAMP:20260422T131143
CREATED:20240919T184603Z
LAST-MODIFIED:20240919T184603Z
UID:10000621-1741132800-1741219199@www.sturgischarterschool.com
SUMMARY:Teacher Professional Half Day - Half Day for Students
DESCRIPTION:Students dismiss at 11:35 a.m.
URL:https://www.sturgischarterschool.com/event/teacher-professional-half-day-half-day-for-students-2/
CATEGORIES:East Campus Events,General,West Campus Events
END:VEVENT
BEGIN:VEVENT
DTSTART;TZID=America/New_York:20250217T080000
DTEND;TZID=America/New_York:20250217T170000
DTSTAMP:20260422T131143
CREATED:20250217T141602Z
LAST-MODIFIED:20250217T141602Z
UID:10000648-1739779200-1739811600@www.sturgischarterschool.com
SUMMARY:Board of Trustees Meeting
DESCRIPTION:The Finance Committee will meet on February 24\, 2025\, at 5:45 p.m. at Sturgis West Campus\, 105 West Main Street\, Hyannis\, MA 02601 \nThe Sturgis Charter Public School’s Board of Trustees will also meet on February 24\, 2025\, at 6:30 p.m. at 105 West Main Street\, Hyannis\, MA 02601 \nAgendas available here: BoardFeb24
URL:https://www.sturgischarterschool.com/event/board-of-trustees-meeting-2/
CATEGORIES:East Campus Events,General,West Campus Events
END:VEVENT
BEGIN:VEVENT
DTSTART;VALUE=DATE:20250217
DTEND;VALUE=DATE:20250222
DTSTAMP:20260422T131143
CREATED:20240919T184504Z
LAST-MODIFIED:20240919T184504Z
UID:10000620-1739750400-1740182399@www.sturgischarterschool.com
SUMMARY:February Vacation
DESCRIPTION:
URL:https://www.sturgischarterschool.com/event/february-vacation/
CATEGORIES:East Campus Events,General,West Campus Events
END:VEVENT
BEGIN:VEVENT
DTSTART;TZID=America/New_York:20250210T183000
DTEND;TZID=America/New_York:20250210T193000
DTSTAMP:20260422T131143
CREATED:20250204T162040Z
LAST-MODIFIED:20250204T162040Z
UID:10000647-1739212200-1739215800@www.sturgischarterschool.com
SUMMARY:Meeting of the Sturgis Charter Public School Board of Trustees
DESCRIPTION:
URL:https://www.sturgischarterschool.com/event/meeting-of-the-sturgis-charter-public-school-board-of-trustees-2/
LOCATION:105 West Main Sreet\, Hyannis
CATEGORIES:East Campus Events,General,West Campus Events
END:VEVENT
BEGIN:VEVENT
DTSTART;VALUE=DATE:20250120
DTEND;VALUE=DATE:20250121
DTSTAMP:20260422T131143
CREATED:20240919T184416Z
LAST-MODIFIED:20240919T184416Z
UID:10000619-1737331200-1737417599@www.sturgischarterschool.com
SUMMARY:Martin Luther King Day
DESCRIPTION:No school
URL:https://www.sturgischarterschool.com/event/martin-luther-king-day/
CATEGORIES:East Campus Events,General,West Campus Events
END:VEVENT
BEGIN:VEVENT
DTSTART;VALUE=DATE:20241223
DTEND;VALUE=DATE:20250106
DTSTAMP:20260422T131143
CREATED:20240919T184320Z
LAST-MODIFIED:20240919T184320Z
UID:10000618-1734912000-1736121599@www.sturgischarterschool.com
SUMMARY:Winter Recess
DESCRIPTION:
URL:https://www.sturgischarterschool.com/event/winter-recess/
CATEGORIES:East Campus Events,General,West Campus Events
END:VEVENT
BEGIN:VEVENT
DTSTART;TZID=America/New_York:20241216T183000
DTEND;TZID=America/New_York:20241216T200000
DTSTAMP:20260422T131143
CREATED:20241210T184142Z
LAST-MODIFIED:20241210T184142Z
UID:10000640-1734373800-1734379200@www.sturgischarterschool.com
SUMMARY:Meeting of the Sturgis Charter Public School Board of Trustees
DESCRIPTION:Find the agenda here: \nBoardDecember2024
URL:https://www.sturgischarterschool.com/event/meeting-of-the-sturgis-charter-public-school-board-of-trustees/
LOCATION:441 Main St\, Hyannis\, 441 Main Street\, Hyannis\, 02601\, United States
CATEGORIES:East Campus Events,General,West Campus Events
END:VEVENT
BEGIN:VEVENT
DTSTART;VALUE=DATE:20241211
DTEND;VALUE=DATE:20241212
DTSTAMP:20260422T131143
CREATED:20240919T184046Z
LAST-MODIFIED:20240919T184046Z
UID:10000617-1733875200-1733961599@www.sturgischarterschool.com
SUMMARY:Teacher Professional Half Day- Half Day for Students
DESCRIPTION:Students will dismiss at 11:35 a.m.
URL:https://www.sturgischarterschool.com/event/teacher-professional-half-day-half-day-for-students/
CATEGORIES:East Campus Events,General,West Campus Events
END:VEVENT
BEGIN:VEVENT
DTSTART;VALUE=DATE:20241202
DTEND;VALUE=DATE:20250111
DTSTAMP:20260422T131143
CREATED:20240919T183942Z
LAST-MODIFIED:20240919T183942Z
UID:10000616-1733097600-1736553599@www.sturgischarterschool.com
SUMMARY:Enrollment Period for the 2025-26 School Year
DESCRIPTION:Applications will be posted on the Enrollment page during the Enrollment Period.
URL:https://www.sturgischarterschool.com/event/enrollment-period-for-the-2025-26-school-year/
CATEGORIES:General
END:VEVENT
BEGIN:VEVENT
DTSTART;VALUE=DATE:20241127
DTEND;VALUE=DATE:20241201
DTSTAMP:20260422T131143
CREATED:20240919T183746Z
LAST-MODIFIED:20240919T183746Z
UID:10000615-1732665600-1733011199@www.sturgischarterschool.com
SUMMARY:Thanksgiving Holiday
DESCRIPTION:No school
URL:https://www.sturgischarterschool.com/event/thanksgiving-holiday/
CATEGORIES:East Campus Events,General,West Campus Events
END:VEVENT
BEGIN:VEVENT
DTSTART;TZID=America/New_York:20241118T080000
DTEND;TZID=America/New_York:20241118T150000
DTSTAMP:20260422T131143
CREATED:20241113T175213Z
LAST-MODIFIED:20241113T175213Z
UID:10000638-1731916800-1731942000@www.sturgischarterschool.com
SUMMARY:Meeting of the Board of Trustees
DESCRIPTION:See the agenda here: BoardNovember2024
URL:https://www.sturgischarterschool.com/event/meeting-of-the-board-of-trustees-2/
LOCATION:The Irish Village\, 35 Scudder Ave\, Hyannis
CATEGORIES:East Campus Events,General,West Campus Events
END:VEVENT
BEGIN:VEVENT
DTSTART;VALUE=DATE:20241118
DTEND;VALUE=DATE:20241119
DTSTAMP:20260422T131143
CREATED:20241010T144535Z
LAST-MODIFIED:20241010T144642Z
UID:10000627-1731888000-1731974399@www.sturgischarterschool.com
SUMMARY:DESE visit
DESCRIPTION:DESE ZOOM orientation for Sturgis Integrated Monitoring Review for Special Education and Civil Rights: \nThe Department of Elementary and Secondary Education’s Office of Public School Monitoring(PSM) will conduct an Integrated Monitoring Review of Sturgis Charter Public School during the week of November 18\, 2024. Each school district\, charter school\, vocational school\, and virtual school undergoes an Integrated Monitoring Review every three years. \nFor more detail\, please view this letter from the Department of Elementary and Secondary Education.
URL:https://www.sturgischarterschool.com/event/dese-visit/
CATEGORIES:East Campus Events,General,West Campus Events
END:VEVENT
END:VCALENDAR